BEGIN:VCALENDAR
VERSION:2.0
PRODID:-//イルチブレインヨガ八事スタジオ - ECPv6.15.20//NONSGML v1.0//EN
CALSCALE:GREGORIAN
METHOD:PUBLISH
X-WR-CALNAME:イルチブレインヨガ八事スタジオ
X-ORIGINAL-URL:https://ilchibrainyoga-yagoto.com
X-WR-CALDESC:イルチブレインヨガ八事スタジオ のイベント
REFRESH-INTERVAL;VALUE=DURATION:PT1H
X-Robots-Tag:noindex
X-PUBLISHED-TTL:PT1H
BEGIN:VTIMEZONE
TZID:Asia/Tokyo
BEGIN:STANDARD
TZOFFSETFROM:+0900
TZOFFSETTO:+0900
TZNAME:JST
DTSTART:20230101T000000
END:STANDARD
END:VTIMEZONE
BEGIN:VEVENT
DTSTART;TZID=Asia/Tokyo:20240508T140000
DTEND;TZID=Asia/Tokyo:20240508T160000
DTSTAMP:20260421T222406
CREATED:20240424T034928Z
LAST-MODIFIED:20240424T035015Z
UID:3783-1715176800-1715184000@ilchibrainyoga-yagoto.com
SUMMARY:気功体験会
DESCRIPTION:気の流れを良くすることで姿勢が良くなり呼吸も深くなる気功。\n体験会を開催します。ぜひこの機会にお試しください。 \n開催日：5月8日(水)　5月22日（水）\n時間：14:00〜16:00\n会場名：イルチブレインヨガ八事スタジオ\n会場住所：名古屋市昭和区山手通り3-10グランウエスト山手2階\n参加費：1000円\nトレーナー：エルガラウラ\n持ち物：タオル、水分\nその他：動きやすい服装 \n問合せ電話：052-836-6567\nLINEからのお申し込みはこちら⇒https://lin.ee/urzdos2 \n\n\n  \n\n\n\n\n\n \n体験ご希望日時\n		(必須)　※ご注意：月曜日は定休日です\n		\n \n—以下から選択してください—10111213141516171819時 —以下から選択してください—001020304050分 ～ のクラス\n \nお名前\n		 (必須)\n		\n \n\n \nメールアドレス\n		 (必須)\n		\n \n\n \nお電話番号（携帯可）\n		 (必須)\n		\n \n\n \nこちらのスタジオを何でお知りになりましたか？\n		 (必須)\n		\n \nチラシ看板書籍雑誌紹介Yahoo検索Google検索口コミその他Webサイト\n \nご関心があること、習得したいこと（複数可）\n \n自然治癒力アップ集中力アップダイエット体質改善ストレス緩和丹田強化呼吸法瞑想法リラックス運動不足解消姿勢がよくなりたいその他（備考欄にご記入ください）\n \n備考欄\n \n\n \n\n\n \n\n Δ
URL:https://ilchibrainyoga-yagoto.com/event/kiko/
LOCATION:イルチブレインヨガ 八事スタジオ\, 愛知県名古屋市昭和区山手通3-10 グランウェスト八事 2階\, 466-0815\, 日本
ATTACH;FMTTYPE=image/jpeg:https://ilchibrainyoga-yagoto.com/wp-content/uploads/2024/04/kiko-scaled.jpg
END:VEVENT
BEGIN:VEVENT
DTSTART;TZID=Asia/Tokyo:20240512T140000
DTEND;TZID=Asia/Tokyo:20240512T160000
DTSTAMP:20260421T222406
CREATED:20240424T035245Z
LAST-MODIFIED:20240424T035318Z
UID:3788-1715522400-1715529600@ilchibrainyoga-yagoto.com
SUMMARY:フリフリダイエットワークショップ
DESCRIPTION:ダイエットを成功させるには、気を整えることが第一。\n体を動かす事によって、気持ちをリラックスさせ、ストレスをなくして、食欲をコントロールすることが大事です。\n「フリフリダイエット」は、誰でも簡単に行えるエクササイズです。\nご予約をお待ちしています。\n開催日：5月12日（日）\n時間：14：00～16：00\n会場名：イルチブレインヨガ八事スタジオ\n会場住所：名古屋市昭和区山手通3-10グランウエスト山手2階\n参加費：1000円\nトレーナー：佐久間\n持ち物：タオル、水分\nその他：動きやすい服装 \n問合せ電話：052-836-6567\nLINEからのお申し込みはこちら⇒https://lin.ee/urzdos2 \n\n\n  \n\n\n\n\n\n \n体験ご希望日時\n		(必須)　※ご注意：月曜日は定休日です\n		\n \n—以下から選択してください—10111213141516171819時 —以下から選択してください—001020304050分 ～ のクラス\n \nお名前\n		 (必須)\n		\n \n\n \nメールアドレス\n		 (必須)\n		\n \n\n \nお電話番号（携帯可）\n		 (必須)\n		\n \n\n \nこちらのスタジオを何でお知りになりましたか？\n		 (必須)\n		\n \nチラシ看板書籍雑誌紹介Yahoo検索Google検索口コミその他Webサイト\n \nご関心があること、習得したいこと（複数可）\n \n自然治癒力アップ集中力アップダイエット体質改善ストレス緩和丹田強化呼吸法瞑想法リラックス運動不足解消姿勢がよくなりたいその他（備考欄にご記入ください）\n \n備考欄\n \n\n \n\n\n \n\n Δ
URL:https://ilchibrainyoga-yagoto.com/event/furifuridiet/
LOCATION:イルチブレインヨガ 八事スタジオ\, 愛知県名古屋市昭和区山手通3-10 グランウェスト八事 2階\, 466-0815\, 日本
ATTACH;FMTTYPE=image/png:https://ilchibrainyoga-yagoto.com/wp-content/uploads/2024/04/528428.png
END:VEVENT
BEGIN:VEVENT
DTSTART;TZID=Asia/Tokyo:20240519T140000
DTEND;TZID=Asia/Tokyo:20240519T160000
DTSTAMP:20260421T222406
CREATED:20240424T035514Z
LAST-MODIFIED:20240424T035514Z
UID:3792-1716127200-1716134400@ilchibrainyoga-yagoto.com
SUMMARY:へそヒーリング体験会
DESCRIPTION:TV番組でも紹介されたへそヒーリング専用ツールを使って、簡単な体操からおへその周りをほぐしていきます。\nヘソの周りのツボを刺激する事で、腸だけでなくさまざまな臓器を活性化させ全身の活力を高めます。\nご予約をお待ちしています。\n開催日：5月19日（日）\n時間：14：00～16：00\n会場名:イルチブレインヨガ八事スタジオ\n会場住所：名古屋市昭和区山手通3-10グランウエスト山手2階\n参加費：1000円\nトレーナー：岡田\n持ち物 ：タオル、水分\nその他：動きやすい服装 \n問合せ電話：052-836-6567\nLINEからのお申し込みはこちら⇒https://lin.ee/urzdos2 \n\n\n  \n\n\n\n\n\n \n体験ご希望日時\n		(必須)　※ご注意：月曜日は定休日です\n		\n \n—以下から選択してください—10111213141516171819時 —以下から選択してください—001020304050分 ～ のクラス\n \nお名前\n		 (必須)\n		\n \n\n \nメールアドレス\n		 (必須)\n		\n \n\n \nお電話番号（携帯可）\n		 (必須)\n		\n \n\n \nこちらのスタジオを何でお知りになりましたか？\n		 (必須)\n		\n \nチラシ看板書籍雑誌紹介Yahoo検索Google検索口コミその他Webサイト\n \nご関心があること、習得したいこと（複数可）\n \n自然治癒力アップ集中力アップダイエット体質改善ストレス緩和丹田強化呼吸法瞑想法リラックス運動不足解消姿勢がよくなりたいその他（備考欄にご記入ください）\n \n備考欄\n \n\n \n\n\n \n\n Δ
URL:https://ilchibrainyoga-yagoto.com/event/hesohealing/
LOCATION:イルチブレインヨガ 八事スタジオ\, 愛知県名古屋市昭和区山手通3-10 グランウェスト八事 2階\, 466-0815\, 日本
ATTACH;FMTTYPE=image/png:https://ilchibrainyoga-yagoto.com/wp-content/uploads/2024/03/94c59e073ee1277c1bbb50120d18abe0.png
END:VEVENT
BEGIN:VEVENT
DTSTART;TZID=Asia/Tokyo:20240522T140000
DTEND;TZID=Asia/Tokyo:20240522T160000
DTSTAMP:20260421T222406
CREATED:20240424T035105Z
LAST-MODIFIED:20240424T035105Z
UID:3786-1716386400-1716393600@ilchibrainyoga-yagoto.com
SUMMARY:気功体験会
DESCRIPTION:気の流れを良くすることで姿勢が良くなり呼吸も深くなる気功。\n体験会を開催します。ぜひこの機会にお試しください。 \n開催日：5月22日（水）\n時間：14:00〜16:00\n会場名：イルチブレインヨガ八事スタジオ\n会場住所：名古屋市昭和区山手通り3-10グランウエスト山手2階\n参加費：1000円\nトレーナー：エルガラウラ\n持ち物：タオル、水分\nその他：動きやすい服装 \n問合せ電話：052-836-6567\nLINEからのお申し込みはこちら⇒https://lin.ee/urzdos2 \n\n\n  \n\n\n\n\n\n \n体験ご希望日時\n		(必須)　※ご注意：月曜日は定休日です\n		\n \n—以下から選択してください—10111213141516171819時 —以下から選択してください—001020304050分 ～ のクラス\n \nお名前\n		 (必須)\n		\n \n\n \nメールアドレス\n		 (必須)\n		\n \n\n \nお電話番号（携帯可）\n		 (必須)\n		\n \n\n \nこちらのスタジオを何でお知りになりましたか？\n		 (必須)\n		\n \nチラシ看板書籍雑誌紹介Yahoo検索Google検索口コミその他Webサイト\n \nご関心があること、習得したいこと（複数可）\n \n自然治癒力アップ集中力アップダイエット体質改善ストレス緩和丹田強化呼吸法瞑想法リラックス運動不足解消姿勢がよくなりたいその他（備考欄にご記入ください）\n \n備考欄\n \n\n \n\n\n \n\n Δ
URL:https://ilchibrainyoga-yagoto.com/event/kiko-2/
LOCATION:イルチブレインヨガ 八事スタジオ\, 愛知県名古屋市昭和区山手通3-10 グランウェスト八事 2階\, 466-0815\, 日本
ATTACH;FMTTYPE=image/jpeg:https://ilchibrainyoga-yagoto.com/wp-content/uploads/2024/04/kiko-scaled.jpg
END:VEVENT
END:VCALENDAR